BEGIN:VCALENDAR
VERSION:2.0
PRODID:-//Biagio&#039;s Wine Bar | Essendon wine bar - ECPv4.8.1//NONSGML v1.0//EN
CALSCALE:GREGORIAN
METHOD:PUBLISH
X-WR-CALNAME:Biagio&#039;s Wine Bar | Essendon wine bar
X-ORIGINAL-URL:http://biagioswinebar.com.au
X-WR-CALDESC:Events for Biagio&#039;s Wine Bar | Essendon wine bar
BEGIN:VEVENT
DTSTART;TZID=UTC+0:20190201T200000
DTEND;TZID=UTC+0:20190201T233000
DTSTAMP:20190226T081153
CREATED:20190111T124704Z
LAST-MODIFIED:20190111T124704Z
UID:1210-1549051200-1549063800@biagioswinebar.com.au
SUMMARY:Friday Night Live @Biagio's: Mary Ann & the Wise Guys
DESCRIPTION:Join us for a live performance by Mary Ann & the Wise Guys \n
URL:http://biagioswinebar.com.au/event/friday-night-live-biagios-mary-ann-the-wise-guys-2/
END:VEVENT
BEGIN:VEVENT
DTSTART;TZID=UTC+0:20190208T200000
DTEND;TZID=UTC+0:20190208T233000
DTSTAMP:20190226T081153
CREATED:20190111T125025Z
LAST-MODIFIED:20190111T125025Z
UID:1212-1549656000-1549668600@biagioswinebar.com.au
SUMMARY:Friday Night Live @Biagio's: Brett Franke.
DESCRIPTION:Join us for a live performance by Brett Franke. \n
URL:http://biagioswinebar.com.au/event/friday-night-live-biagios-brett-franke-2/
END:VEVENT
BEGIN:VEVENT
DTSTART;TZID=UTC+0:20190215T200000
DTEND;TZID=UTC+0:20190215T233000
DTSTAMP:20190226T081153
CREATED:20190111T125134Z
LAST-MODIFIED:20190111T125134Z
UID:1214-1550260800-1550273400@biagioswinebar.com.au
SUMMARY:Friday Night Live @Biagio's: Mary Ann and the Wise Guys.
DESCRIPTION:Join us for a live performance by Mary Ann and the Wise Guys. \n
URL:http://biagioswinebar.com.au/event/friday-night-live-biagios-mary-ann-and-the-wise-guys/
END:VEVENT
BEGIN:VEVENT
DTSTART;TZID=UTC+0:20190222T200000
DTEND;TZID=UTC+0:20190222T233000
DTSTAMP:20190226T081153
CREATED:20190111T125307Z
LAST-MODIFIED:20190111T125307Z
UID:1216-1550865600-1550878200@biagioswinebar.com.au
SUMMARY:Friday Night Live @Biagio's: Brett Franke.
DESCRIPTION:Join us for a live performance by Brett Franke. \n
URL:http://biagioswinebar.com.au/event/friday-night-live-biagios-brett-franke-3/
END:VEVENT
END:VCALENDAR